BEGIN:VCALENDAR
VERSION:2.0
PRODID:-//RADIO CASSETTE - ECPv6.15.20//NONSGML v1.0//EN
CALSCALE:GREGORIAN
METHOD:PUBLISH
X-WR-CALNAME:RADIO CASSETTE
X-ORIGINAL-URL:https://radiocassette.es
X-WR-CALDESC:Eventos para RADIO CASSETTE
REFRESH-INTERVAL;VALUE=DURATION:PT1H
X-Robots-Tag:noindex
X-PUBLISHED-TTL:PT1H
BEGIN:VTIMEZONE
TZID:Europe/Madrid
BEGIN:DAYLIGHT
TZOFFSETFROM:+0100
TZOFFSETTO:+0200
TZNAME:CEST
DTSTART:20220327T010000
END:DAYLIGHT
BEGIN:STANDARD
TZOFFSETFROM:+0200
TZOFFSETTO:+0100
TZNAME:CET
DTSTART:20221030T010000
END:STANDARD
BEGIN:DAYLIGHT
TZOFFSETFROM:+0100
TZOFFSETTO:+0200
TZNAME:CEST
DTSTART:20230326T010000
END:DAYLIGHT
BEGIN:STANDARD
TZOFFSETFROM:+0200
TZOFFSETTO:+0100
TZNAME:CET
DTSTART:20231029T010000
END:STANDARD
BEGIN:DAYLIGHT
TZOFFSETFROM:+0100
TZOFFSETTO:+0200
TZNAME:CEST
DTSTART:20240331T010000
END:DAYLIGHT
BEGIN:STANDARD
TZOFFSETFROM:+0200
TZOFFSETTO:+0100
TZNAME:CET
DTSTART:20241027T010000
END:STANDARD
END:VTIMEZONE
BEGIN:VEVENT
DTSTART;TZID=Europe/Madrid:20231216T170000
DTEND;TZID=Europe/Madrid:20231217T010000
DTSTAMP:20260423T121009
CREATED:20230919T223153Z
LAST-MODIFIED:20250601T190130Z
UID:39739-1702746000-1702774800@radiocassette.es
SUMMARY:CARTEL RADIO CASSETTE CONCIERTO
DESCRIPTION:
URL:https://radiocassette.es/event/radio-cassette-concierto16/
LOCATION:Plaza de Toros\, España
ATTACH;FMTTYPE=image/jpeg:https://radiocassette.es/wp-content/uploads/2023/06/CARTEL-RADIO-CASSETTE-CONCIERTO-LOGO-ANIMAL-1-scaled.webp
END:VEVENT
END:VCALENDAR