BEGIN:VCALENDAR
VERSION:2.0
PRODID:-//RADIO CASSETTE - ECPv6.15.20//NONSGML v1.0//EN
CALSCALE:GREGORIAN
METHOD:PUBLISH
X-ORIGINAL-URL:https://radiocassette.es
X-WR-CALDESC:Eventos para RADIO CASSETTE
REFRESH-INTERVAL;VALUE=DURATION:PT1H
X-Robots-Tag:noindex
X-PUBLISHED-TTL:PT1H
BEGIN:VTIMEZONE
TZID:Europe/Madrid
BEGIN:DAYLIGHT
TZOFFSETFROM:+0100
TZOFFSETTO:+0200
TZNAME:CEST
DTSTART:20160327T010000
END:DAYLIGHT
BEGIN:STANDARD
TZOFFSETFROM:+0200
TZOFFSETTO:+0100
TZNAME:CET
DTSTART:20161030T010000
END:STANDARD
BEGIN:DAYLIGHT
TZOFFSETFROM:+0100
TZOFFSETTO:+0200
TZNAME:CEST
DTSTART:20170326T010000
END:DAYLIGHT
BEGIN:STANDARD
TZOFFSETFROM:+0200
TZOFFSETTO:+0100
TZNAME:CET
DTSTART:20171029T010000
END:STANDARD
BEGIN:DAYLIGHT
TZOFFSETFROM:+0100
TZOFFSETTO:+0200
TZNAME:CEST
DTSTART:20180325T010000
END:DAYLIGHT
BEGIN:STANDARD
TZOFFSETFROM:+0200
TZOFFSETTO:+0100
TZNAME:CET
DTSTART:20181028T010000
END:STANDARD
BEGIN:DAYLIGHT
TZOFFSETFROM:+0100
TZOFFSETTO:+0200
TZNAME:CEST
DTSTART:20190331T010000
END:DAYLIGHT
BEGIN:STANDARD
TZOFFSETFROM:+0200
TZOFFSETTO:+0100
TZNAME:CET
DTSTART:20191027T010000
END:STANDARD
BEGIN:DAYLIGHT
TZOFFSETFROM:+0100
TZOFFSETTO:+0200
TZNAME:CEST
DTSTART:20200329T010000
END:DAYLIGHT
BEGIN:STANDARD
TZOFFSETFROM:+0200
TZOFFSETTO:+0100
TZNAME:CET
DTSTART:20201025T010000
END:STANDARD
BEGIN:DAYLIGHT
TZOFFSETFROM:+0100
TZOFFSETTO:+0200
TZNAME:CEST
DTSTART:20210328T010000
END:DAYLIGHT
BEGIN:STANDARD
TZOFFSETFROM:+0200
TZOFFSETTO:+0100
TZNAME:CET
DTSTART:20211031T010000
END:STANDARD
BEGIN:DAYLIGHT
TZOFFSETFROM:+0100
TZOFFSETTO:+0200
TZNAME:CEST
DTSTART:20220327T010000
END:DAYLIGHT
BEGIN:STANDARD
TZOFFSETFROM:+0200
TZOFFSETTO:+0100
TZNAME:CET
DTSTART:20221030T010000
END:STANDARD
BEGIN:DAYLIGHT
TZOFFSETFROM:+0100
TZOFFSETTO:+0200
TZNAME:CEST
DTSTART:20230326T010000
END:DAYLIGHT
BEGIN:STANDARD
TZOFFSETFROM:+0200
TZOFFSETTO:+0100
TZNAME:CET
DTSTART:20231029T010000
END:STANDARD
END:VTIMEZONE
BEGIN:VEVENT
DTSTART;TZID=Europe/Madrid:20221203T170000
DTEND;TZID=Europe/Madrid:20221204T000000
DTSTAMP:20260420T143857
CREATED:20221019T190037Z
LAST-MODIFIED:20250601T190240Z
UID:38009-1670086800-1670112000@radiocassette.es
SUMMARY:CARTEL PLAZA DE TOROS-EL CONCIERTO
DESCRIPTION:
URL:https://radiocassette.es/event/plazadetoros-2022/
CATEGORIES:Party
ATTACH;FMTTYPE=image/jpeg:https://radiocassette.es/wp-content/uploads/2022/10/75869794-1663-465d-8d41-b3ee4f202ae4.jpg
END:VEVENT
BEGIN:VEVENT
DTSTART;VALUE=DATE:20220814
DTEND;VALUE=DATE:20220816
DTSTAMP:20260420T143857
CREATED:20220407T020020Z
LAST-MODIFIED:20221105T221546Z
UID:37297-1660435200-1660607999@radiocassette.es
SUMMARY:SAN JAVIER 2022
DESCRIPTION: \n\n\n\nHola! ¿Estas ahí ? Apunta bien esta fecha – Domingo 14 Agosto de 21:00 a 08:00 hrs .. 5 años bailando juntos\n 
URL:https://radiocassette.es/event/sanjavier2022/
LOCATION:Maná San Javier\, Discoteca Maná\, 30730 San Javier\, Murcia\, San Javier\, Murcia\, 30730\, España
CATEGORIES:Party
ATTACH;FMTTYPE=image/jpeg:https://radiocassette.es/wp-content/uploads/2022/08/QVT0129-scaled.jpg
END:VEVENT
BEGIN:VEVENT
DTSTART;TZID=Europe/Madrid:20211205T170000
DTEND;TZID=Europe/Madrid:20211206T010000
DTSTAMP:20260420T143857
CREATED:20211021T235315Z
LAST-MODIFIED:20250601T190228Z
UID:36813-1638723600-1638752400@radiocassette.es
SUMMARY:Cartel Plaza de Toros Murcia
DESCRIPTION: \nApunta bien.  Domingo 05 diciembre\n……….. de 17:00 a 01:00 hrs \n\n\nQuedará Prohibido Parar de bailar\n\n\nYo estuve allí !! \n \nPlaza de toros de Murcia\n\n\nMás de 27 meses\, y por fin podemos celebrar un RADIO CASSETTE como Dios manda!!!!!\nCon una carpa gigante climatizada\, para 3000 personas y suelo de moqueta. Zonas vip. Un escenario alucinante de 10.6×5 tubo modular\, pantallas led\, espectáculo en V y un montón de sorpresas más!!!!!\n\n\nRADIO CASSETTE tenía que volver a lo grande\, y así será!!!! Contaremos con la diva de los 00’s:  KATE RYAN y una actuación sin precedentes\, como no has visto nunca.\n\n\nTambién nos acompañarán las artistas nacionales Marián Dacal B2B Eva Marti\, para poner patas arriba la plaza de toros de Murcia.\n\n\nY no puede faltar el set único que están preparando los djs:\n\n\nMiguel Serna – Javi boss- Chumi dj-Paco Garcia – Dj Martin-Rubén Noguera y muchos más….\n\n\nPresentado por el increíble Joaquín Guillén \n\n\nCompra tus entradas antes que se agoten en: radiocassette.es\, El Corte Inglés y Oficinas de correos.\n \n\n\nYA SABES !!!!\n\n\nPrepara ropa y calzado cómodo\, ve tirando de teléfono y no tardes en dejar claro donde se baila la tarde/noche del puente de Diciembre a partir de las 17:00h en la plaza de Toros de Murcia.\n\n( Uso obligatorio de mascarilla en pista de baile ) \n 
URL:https://radiocassette.es/event/diciembre-radio-cassette-21/
ATTACH;FMTTYPE=image/jpeg:https://radiocassette.es/wp-content/uploads/2021/12/05122021-_DSC1331-scaled.jpg
END:VEVENT
BEGIN:VEVENT
DTSTART;TZID=Europe/Madrid:20210815T190000
DTEND;TZID=Europe/Madrid:20210816T020000
DTSTAMP:20260420T143857
CREATED:20210701T003544Z
LAST-MODIFIED:20210804T001147Z
UID:36542-1629054000-1629079200@radiocassette.es
SUMMARY:ESTÉREO EDICIÓN ESPECIAL
DESCRIPTION:ESTÉREO REMEMBER MUSIC ******** \nEn Directo: SENSITY WORLD + \nSets!!  Javi Boss – Chumi Dj – Paco Garcia  \nJavi Molina -Kuki- Dj Martin   \nPresentado por Joaquín Guillén      \n 
URL:https://radiocassette.es/event/6x60/
LOCATION:Maná San Javier\, Discoteca Maná\, 30730 San Javier\, Murcia\, San Javier\, Murcia\, 30730\, España
CATEGORIES:Party
ATTACH;FMTTYPE=image/jpeg:https://radiocassette.es/wp-content/uploads/2021/07/025d7f1d-0a6b-4b82-813d-effb3a31877b.jpg
END:VEVENT
BEGIN:VEVENT
DTSTART;TZID=Europe/Madrid:20210725T200000
DTEND;TZID=Europe/Madrid:20210816T020000
DTSTAMP:20260420T143857
CREATED:20210701T002203Z
LAST-MODIFIED:20210804T001357Z
UID:36533-1627243200-1629079200@radiocassette.es
SUMMARY:ESTÉREO EDICIÓN ESPECIAL
DESCRIPTION:ESTÉREO REMEMBER MUSIC ******** \nEn Directo: NEW LIMIT + \nSets!!  Javi Boss – Chumi Dj – Ismael Lora  \nDi Carlo – Dj Martin – Rubén Noguera  \nPresentado por Joaquín Guillén      \n 
URL:https://radiocassette.es/event/estereo-15/
LOCATION:Maná San Javier\, Discoteca Maná\, 30730 San Javier\, Murcia\, San Javier\, Murcia\, 30730\, España
CATEGORIES:Party
ATTACH;FMTTYPE=image/jpeg:https://radiocassette.es/wp-content/uploads/2021/07/Tiquetera_RADIO-CASSETTE_STEREO_25-JULIO.jpg
END:VEVENT
BEGIN:VEVENT
DTSTART;TZID=Europe/Madrid:20190814T020000
DTEND;TZID=Europe/Madrid:20190816T015900
DTSTAMP:20260420T143857
CREATED:20190523T165827Z
LAST-MODIFIED:20220923T232234Z
UID:2604-1565748000-1565920740@radiocassette.es
SUMMARY:RADIO CASSETTE 3ª EDICIÓN
DESCRIPTION:3ª Edición Macro Festival Remember \nEn Directo KEN LASZLO ( Italia ) \n 
URL:https://radiocassette.es/event/radio-cassette-3a-edicion/
LOCATION:Maná San Javier\, Discoteca Maná\, 30730 San Javier\, Murcia\, San Javier\, Murcia\, 30730\, España
CATEGORIES:Party
ATTACH;FMTTYPE=image/jpeg:https://radiocassette.es/wp-content/uploads/2017/10/IMG_7040.jpg
ORGANIZER;CN="Dance or die":MAILTO:info@radiocassette.es
END:VEVENT
BEGIN:VEVENT
DTSTART;TZID=Europe/Madrid:20180814T220000
DTEND;TZID=Europe/Madrid:20180815T080000
DTSTAMP:20260420T143857
CREATED:20180605T204501Z
LAST-MODIFIED:20220923T234356Z
UID:2780-1534284000-1534320000@radiocassette.es
SUMMARY:RADIO CASSETTE 2ª EDICIÓN
DESCRIPTION:  \nRadio Cassette 90’s \n2ª Edición Macro Festival Remember \nJavi Boss • Chumi Dj • Paco García •\nLuis Bonias • Carlos Torralbo • Churu •\nMartin • Nano • Vitti • Rubén Noguera •\nToni Beas • Sito • Cefe • Sevi&Nano •\nIrra dj • S.A.C. • Pexkao • Ramsés dj •\nOscar DJ • Grease Fat Rat • \n 
URL:https://radiocassette.es/event/radio-cassette-2a-edicion/
LOCATION:Maná San Javier\, Discoteca Maná\, 30730 San Javier\, Murcia\, San Javier\, Murcia\, 30730\, España
CATEGORIES:Party
ATTACH;FMTTYPE=image/jpeg:https://radiocassette.es/wp-content/uploads/2020/04/QVT5179-scaled.jpg
ORGANIZER;CN="Dance or die":MAILTO:info@radiocassette.es
END:VEVENT
BEGIN:VEVENT
DTSTART;VALUE=DATE:20170804
DTEND;VALUE=DATE:20200703
DTSTAMP:20260420T143857
CREATED:20171014T111427Z
LAST-MODIFIED:20220923T234159Z
UID:2463-1501812000-1593655199@radiocassette.es
SUMMARY:RADIO CASSETTE 1ª EDICIÓN
DESCRIPTION:RADIO CASSETTE 1ª EDICIÓN\nJavi boss – Chumi Dj – Dj Martin – Churu – Nano
URL:https://radiocassette.es/event/radio-cassette-1a-edicion/
LOCATION:Maná San Javier\, Discoteca Maná\, 30730 San Javier\, Murcia\, San Javier\, Murcia\, 30730\, España
CATEGORIES:Party
ATTACH;FMTTYPE=image/jpeg:https://radiocassette.es/wp-content/uploads/2017/11/41118199_1728981870533610_7961484183996465152_n.jpg
ORGANIZER;CN="Dance or die":MAILTO:info@radiocassette.es
END:VEVENT
END:VCALENDAR