BEGIN:VCALENDAR
VERSION:2.0
PRODID:-//RADIO CASSETTE - ECPv6.15.20//NONSGML v1.0//EN
CALSCALE:GREGORIAN
METHOD:PUBLISH
X-WR-CALNAME:RADIO CASSETTE
X-ORIGINAL-URL:https://radiocassette.es
X-WR-CALDESC:Eventos para RADIO CASSETTE
REFRESH-INTERVAL;VALUE=DURATION:PT1H
X-Robots-Tag:noindex
X-PUBLISHED-TTL:PT1H
BEGIN:VTIMEZONE
TZID:Europe/Madrid
BEGIN:DAYLIGHT
TZOFFSETFROM:+0100
TZOFFSETTO:+0200
TZNAME:CEST
DTSTART:20220327T010000
END:DAYLIGHT
BEGIN:STANDARD
TZOFFSETFROM:+0200
TZOFFSETTO:+0100
TZNAME:CET
DTSTART:20221030T010000
END:STANDARD
BEGIN:DAYLIGHT
TZOFFSETFROM:+0100
TZOFFSETTO:+0200
TZNAME:CEST
DTSTART:20230326T010000
END:DAYLIGHT
BEGIN:STANDARD
TZOFFSETFROM:+0200
TZOFFSETTO:+0100
TZNAME:CET
DTSTART:20231029T010000
END:STANDARD
BEGIN:DAYLIGHT
TZOFFSETFROM:+0100
TZOFFSETTO:+0200
TZNAME:CEST
DTSTART:20240331T010000
END:DAYLIGHT
BEGIN:STANDARD
TZOFFSETFROM:+0200
TZOFFSETTO:+0100
TZNAME:CET
DTSTART:20241027T010000
END:STANDARD
END:VTIMEZONE
BEGIN:VEVENT
DTSTART;TZID=Europe/Madrid:20230617T190000
DTEND;TZID=Europe/Madrid:20230618T063000
DTSTAMP:20260424T002726
CREATED:20230413T172047Z
LAST-MODIFIED:20250601T190203Z
UID:38837-1687028400-1687069800@radiocassette.es
SUMMARY:CARTEL RADIO CASSETTE TOWN
DESCRIPTION:
URL:https://radiocassette.es/event/38837/
LOCATION:Murcia
ATTACH;FMTTYPE=image/jpeg:https://radiocassette.es/wp-content/uploads/2023/04/d94dace6-b7ce-4265-b227-e5624baf2ae1.jpg
END:VEVENT
END:VCALENDAR